BEGIN:VCALENDAR
VERSION:2.0
PRODID:-//Limattivo in het brein - ECPv6.15.20//NONSGML v1.0//EN
CALSCALE:GREGORIAN
METHOD:PUBLISH
X-WR-CALNAME:Limattivo in het brein
X-ORIGINAL-URL:https://www.limattivo-inhetbrein.nl
X-WR-CALDESC:Evenementen voor Limattivo in het brein
REFRESH-INTERVAL;VALUE=DURATION:PT1H
X-Robots-Tag:noindex
X-PUBLISHED-TTL:PT1H
BEGIN:VTIMEZONE
TZID:Europe/Amsterdam
BEGIN:DAYLIGHT
TZOFFSETFROM:+0100
TZOFFSETTO:+0200
TZNAME:CEST
DTSTART:20150329T010000
END:DAYLIGHT
BEGIN:STANDARD
TZOFFSETFROM:+0200
TZOFFSETTO:+0100
TZNAME:CET
DTSTART:20151025T010000
END:STANDARD
BEGIN:DAYLIGHT
TZOFFSETFROM:+0100
TZOFFSETTO:+0200
TZNAME:CEST
DTSTART:20160327T010000
END:DAYLIGHT
BEGIN:STANDARD
TZOFFSETFROM:+0200
TZOFFSETTO:+0100
TZNAME:CET
DTSTART:20161030T010000
END:STANDARD
BEGIN:DAYLIGHT
TZOFFSETFROM:+0100
TZOFFSETTO:+0200
TZNAME:CEST
DTSTART:20170326T010000
END:DAYLIGHT
BEGIN:STANDARD
TZOFFSETFROM:+0200
TZOFFSETTO:+0100
TZNAME:CET
DTSTART:20171029T010000
END:STANDARD
BEGIN:DAYLIGHT
TZOFFSETFROM:+0100
TZOFFSETTO:+0200
TZNAME:CEST
DTSTART:20180325T010000
END:DAYLIGHT
BEGIN:STANDARD
TZOFFSETFROM:+0200
TZOFFSETTO:+0100
TZNAME:CET
DTSTART:20181028T010000
END:STANDARD
END:VTIMEZONE
BEGIN:VEVENT
DTSTART;TZID=Europe/Amsterdam:20170523T110000
DTEND;TZID=Europe/Amsterdam:20170523T113000
DTSTAMP:20260424T154716
CREATED:20170418T193723Z
LAST-MODIFIED:20170418T193723Z
UID:2086-1495537200-1495539000@www.limattivo-inhetbrein.nl
SUMMARY:Voorstelling Krrrrrr....okodil
DESCRIPTION:Clown Li neemt jullie mee in het verhaal. Stilzitten is er niet bij. We gaan zingen\, dansen en bewegen maar vooral het verhaal beleven.
URL:https://www.limattivo-inhetbrein.nl/evenement/voorstelling-krrrrrr-okodil/
LOCATION:d’n Overkant\, Edward Poppelaan 18\, Etten-Leur\, Noord brabant\, 4874 NA \, Nederland
END:VEVENT
BEGIN:VEVENT
DTSTART;TZID=Europe/Amsterdam:20170413T093000
DTEND;TZID=Europe/Amsterdam:20170413T100000
DTSTAMP:20260424T154716
CREATED:20161213T132905Z
LAST-MODIFIED:20161213T132905Z
UID:1883-1492075800-1492077600@www.limattivo-inhetbrein.nl
SUMMARY:Voorstelling "Toveren"
DESCRIPTION:Voor het tovertheater heeft Clown Li een tovenaar kostuum aan en heeft ze een toverkist bij en haar tovenaarsleerling Fillis. Op rustige muziek heet ze iedereen welkom met een toverstok met kriebelveer en een tovernaarslied. Daarna tovert Clown Li van alles uit haar toverkist wat de zintuigen prikkelt en het vleugje black light maakt het een mooi licht spel als de ruimte wat donkerder is. Na al dat getover uit de kist worden er ook leuke spreuken voorgelezen uit het magisch toverboek\, en dan wordt Fillis wakker de tovenaarsleerling. Hij knuffelt het publiek\, maakt grapjes is ondeugend maar vooral heel erg lief. Dit theater wordt begeleid door rustige\, mooie toverachtige muziek. \n \n\nToverlied\nLakka lakka lakka aa \nLiegereliegereliegie ie ie \nA bubbele bub bub bub \nA bubbele bub bub bub \nAllagera lagara lagara lagara a aa
URL:https://www.limattivo-inhetbrein.nl/evenement/voorstelling-toveren/
LOCATION:Het Voortouw\, Slagveld 55\, Etten-Leur\, Noord Brabant\, 4871 ND \, Nederland
END:VEVENT
BEGIN:VEVENT
DTSTART;TZID=Europe/Amsterdam:20170327T093000
DTEND;TZID=Europe/Amsterdam:20170327T100000
DTSTAMP:20260424T154716
CREATED:20161213T132751Z
LAST-MODIFIED:20161213T132751Z
UID:1881-1490607000-1490608800@www.limattivo-inhetbrein.nl
SUMMARY:Voorstelling "Geluiden in het bos"
DESCRIPTION:Voor het geluiden in het bos theater heeft Clown Li een boselfen kostuum aangetrokken en heet ze het publiek welkom met een regenbuis met op de achtergrond regen en onweer geluiden. Clown Li opent het theater met een regenlied en laat het publiek de regen ervaren. Tijdens geluiden in het bos gaat het regenen\, hagelen\, onweren en waaien. We gaan ook schuilen onder een groot groen blad. Maar het klaart gelukkig ook op en dan hoor je verschillende vogelgeluiden om je heen. \n \n\nRegenlied\nTikke takke tikke takke \nTikke takke regen \nTikke takke tikke takke \nOp het dak \nNat nat nat
URL:https://www.limattivo-inhetbrein.nl/evenement/voorstelling-geluiden-bos/
LOCATION:KDV Do-Re-Mi\, Tamboerijn 9\, Etten-Leur\, Noord-Brabant\, 4876 BS\, Nederland
END:VEVENT
BEGIN:VEVENT
DTSTART;TZID=Europe/Amsterdam:20170316T200000
DTEND;TZID=Europe/Amsterdam:20170316T220000
DTSTAMP:20260424T154716
CREATED:20161213T133238Z
LAST-MODIFIED:20161213T133238Z
UID:1889-1489694400-1489701600@www.limattivo-inhetbrein.nl
SUMMARY:Lezing Beeld denken en Hoog gevoeligheid
DESCRIPTION:16 MAART 2017 \nLEZING BEELD DENKEN EN HOOG GEVOELIGHEID \nBENT U ZELF VISUEEL INGESTELD\, \nIS UW KIND VISUEEL INGESTELD EN ERVAART HET MOGELIJK PROBLEMEN TIJDENS DE \nSCHOOLVAKKEN OP SCHOOL. IS UW HOOFD ALTIJD VOL OF IS HET IN UW HOOFD EEN CHAOS? \nERVAART UW KIND DIT OOK OF GAAT ZIJN/HAAR LICHAAM NA OVERPRIKKELING VAAK OP ALARM OF BENT U GEWOON GEÏNTERESSEERD IN DIT \nONDERWERP KOM DAN EENS LUISTEREN NAAR \nDEZE LEZING BIJ LIMATTIVO. \nGEEFT U ZICH DAN OP VIA info@limattivo.nl \n16 maart 2017 €2.50pp \n20:00-c.a. 22:00 \nLinda Matijsen \nLimattivo \nLage Donk 29\, 4874 LM Etten-Leur \n06-23872870 \ninfo@limattivo.nl \n 
URL:https://www.limattivo-inhetbrein.nl/evenement/lezing-beeld-denken-en-hoog-gevoeligheid-3/
LOCATION:Noord brabant
END:VEVENT
BEGIN:VEVENT
DTSTART;TZID=Europe/Amsterdam:20170307T110000
DTEND;TZID=Europe/Amsterdam:20170307T113000
DTSTAMP:20260424T154716
CREATED:20161213T132627Z
LAST-MODIFIED:20161213T132627Z
UID:1879-1488884400-1488886200@www.limattivo-inhetbrein.nl
SUMMARY:Voorstelling "We hebben er een geitje bij"
DESCRIPTION:Kom eens kijken naar mijn kindje\nDat zei moeder geit aan mij\nWant mijn geitje is de liefste van de kinderboerderij \nOp de kinderboerderij is een geitje geboren Clown Li wil graag het geitje zien\,\nSamen met de kinderen gaan we alle dieren langs.\nWat voor geluid maken de dieren en hoe bewegen ze?\nDe dieren weten van de geboorte van het geitje maar waar is het geitje nu?\nSamen gaan we opzoek in de kinderboerderij. \nNa aanleiding van het boek we hebben er een geitje bij heeft Limattivo\neen interactieve voorstelling gemaakt voor peuter en kleuters.
URL:https://www.limattivo-inhetbrein.nl/evenement/voorstelling-we-er-geitje/
LOCATION:De Klankhof\, Hobodreef 1\, Etten-Leur\, Noord brabant\, 4876 XB \, Nederland
END:VEVENT
BEGIN:VEVENT
DTSTART;TZID=Europe/Amsterdam:20170306T100000
DTEND;TZID=Europe/Amsterdam:20170421T170000
DTSTAMP:20260424T154716
CREATED:20161111T163325Z
LAST-MODIFIED:20161111T163325Z
UID:1808-1488794400-1492794000@www.limattivo-inhetbrein.nl
SUMMARY:Cito in beeld training voor groep 7 en 8
DESCRIPTION:Cito in Beeld is ontworpen voor groep 7 en 8 die hun entreetoets of de eindCITO gaan maken\, \nKinderen die zich heel druk maken en heel veel stress ervaren voor deze toetsen\, zo ook CITOvragen op een verkeerde manier interpreteren \n\nTwijfelen over ‘Welke uitleg moet ze nou kiezen?’\nTijd verliezen\nMoeite hebben met het lezen en begrijpen van lange teksten\nMoeite hebben met het omgaan met de tijdsdruk\nMoeite hebben om vraagstukken gestructureerd aan te pakken.\nStress ervaren als het gaat om toetsen\n(een lichte vorm van ) faalangst hebben\n\nKinderen die heel hun schoolcarrière een voldoende beeld laten zien tijdens de schoolopdrachten\, schooltoetsen maar uitvallen op de Cito toetsen en daardoor een lagere score te zien krijgen zijn allemaal welkom tijdens deze 7 lessen Cito training bij Limattivo Etten-Leur. \nU kunt uw kind aanmelden via een mail bericht naar info@limattivo.nl \nLessen zijn op: dagen en tijden in overleg\, lessen worden aangeboden in groepjes. Min. 2 max 4 kinderen \nKosten zijn €275\,00 incl. btw en werkboek \nLessen zijn ook individueel af te nemen op locatie of bij Limattivo neem dan contact op voor de kosten
URL:https://www.limattivo-inhetbrein.nl/evenement/cito-beeld-training-groep-7-en-8/
LOCATION:Noord brabant
END:VEVENT
BEGIN:VEVENT
DTSTART;TZID=Europe/Amsterdam:20170202T110000
DTEND;TZID=Europe/Amsterdam:20170202T113000
DTSTAMP:20260424T154716
CREATED:20161213T131838Z
LAST-MODIFIED:20161213T131838Z
UID:1864-1486033200-1486035000@www.limattivo-inhetbrein.nl
SUMMARY:Voorstelling "De kleine walvis"
DESCRIPTION:Tijdens de nationale voorleesdagen 2017 speelt Limattivo in op het prentenboek van het jaar “De kleine walvis”. \nClown Li zit samen met de kinderen op het strand voor het huisje waar Boy met zijn vader woont. De vader van Boy vertrekt naar zee om vis te gaan vangen en Boy is thuis aan het wachten op de storm. Dan gaat het waaien voel je dat ook het gaat steeds harder waaien\, als de wind gaat liggen gaat Clown Li samen met de kinderen strandjutten op het strand van Boy we vinden van alles………….. Maar ook…………..Een kleine walvis een bijzondere kleine walvis\, ga samen met Clown Li mee op avontuur op het strand van Boy en zijn vader op het einde van de voorstelling brengen we de kleine walvis terug naar zee en duiken we er zelf even in\, wat een mooie beleving. \nVoorstelling geschreven voor peuters en kleuters
URL:https://www.limattivo-inhetbrein.nl/evenement/voorstelling-kleine-walvis-2/
LOCATION:Brede school de Vleer\, Kraanvogel 22\, Etten-Leur\, Noord-Brabant\, 4872 SB\, Nederland
END:VEVENT
BEGIN:VEVENT
DTSTART;TZID=Europe/Amsterdam:20170201T153000
DTEND;TZID=Europe/Amsterdam:20170201T160000
DTSTAMP:20260424T154716
CREATED:20161213T132430Z
LAST-MODIFIED:20161213T132430Z
UID:1876-1485963000-1485964800@www.limattivo-inhetbrein.nl
SUMMARY:Voorstelling "De kleine walvis" Bieb VANnU
DESCRIPTION:Tijdens de nationale voorleesdagen 2017 speelt Limattivo in op het prentenboek van het jaar “De kleine walvis”. \nClown Li zit samen met de kinderen op het strand voor het huisje waar Boy met zijn vader woont. De vader van Boy vertrekt naar zee om vis te gaan vangen en Boy is thuis aan het wachten op de storm. Dan gaat het waaien voel je dat ook het gaat steeds harder waaien\, als de wind gaat liggen gaat Clown Li samen met de kinderen strandjutten op het strand van Boy we vinden van alles………….. Maar ook…………..Een kleine walvis een bijzondere kleine walvis\, ga samen met Clown Li mee op avontuur op het strand van Boy en zijn vader op het einde van de voorstelling brengen we de kleine walvis terug naar zee en duiken we er zelf even in\, wat een mooie beleving. \nVoorstelling geschreven voor peuters en kleuters
URL:https://www.limattivo-inhetbrein.nl/evenement/voorstelling-kleine-walvis-bieb-vannu-4/
LOCATION:zie Bieb VANnU
END:VEVENT
BEGIN:VEVENT
DTSTART;TZID=Europe/Amsterdam:20170201T133000
DTEND;TZID=Europe/Amsterdam:20170201T140000
DTSTAMP:20260424T154716
CREATED:20161213T132325Z
LAST-MODIFIED:20161213T132325Z
UID:1873-1485955800-1485957600@www.limattivo-inhetbrein.nl
SUMMARY:Voorstelling "De kleine walvis" bieb VANnU
DESCRIPTION:Tijdens de nationale voorleesdagen 2017 speelt Limattivo in op het prentenboek van het jaar “De kleine walvis”. \nClown Li zit samen met de kinderen op het strand voor het huisje waar Boy met zijn vader woont. De vader van Boy vertrekt naar zee om vis te gaan vangen en Boy is thuis aan het wachten op de storm. Dan gaat het waaien voel je dat ook het gaat steeds harder waaien\, als de wind gaat liggen gaat Clown Li samen met de kinderen strandjutten op het strand van Boy we vinden van alles………….. Maar ook…………..Een kleine walvis een bijzondere kleine walvis\, ga samen met Clown Li mee op avontuur op het strand van Boy en zijn vader op het einde van de voorstelling brengen we de kleine walvis terug naar zee en duiken we er zelf even in\, wat een mooie beleving. \nVoorstelling geschreven voor peuters en kleuters
URL:https://www.limattivo-inhetbrein.nl/evenement/voorstelling-kleine-walvis-bieb-vannu-3/
LOCATION:zie Bieb VANnU
END:VEVENT
BEGIN:VEVENT
DTSTART;TZID=Europe/Amsterdam:20170125T153000
DTEND;TZID=Europe/Amsterdam:20170125T160000
DTSTAMP:20260424T154716
CREATED:20161213T132226Z
LAST-MODIFIED:20161213T132226Z
UID:1870-1485358200-1485360000@www.limattivo-inhetbrein.nl
SUMMARY:Voorstelling "De kleine walvis" Bieb VANnU
DESCRIPTION:Tijdens de nationale voorleesdagen 2017 speelt Limattivo in op het prentenboek van het jaar “De kleine walvis”. \nClown Li zit samen met de kinderen op het strand voor het huisje waar Boy met zijn vader woont. De vader van Boy vertrekt naar zee om vis te gaan vangen en Boy is thuis aan het wachten op de storm. Dan gaat het waaien voel je dat ook het gaat steeds harder waaien\, als de wind gaat liggen gaat Clown Li samen met de kinderen strandjutten op het strand van Boy we vinden van alles………….. Maar ook…………..Een kleine walvis een bijzondere kleine walvis\, ga samen met Clown Li mee op avontuur op het strand van Boy en zijn vader op het einde van de voorstelling brengen we de kleine walvis terug naar zee en duiken we er zelf even in\, wat een mooie beleving. \nVoorstelling geschreven voor peuters en kleuters
URL:https://www.limattivo-inhetbrein.nl/evenement/voorstelling-kleine-walvis-bieb-vannu-2/
LOCATION:zie Bieb VANnU
END:VEVENT
BEGIN:VEVENT
DTSTART;TZID=Europe/Amsterdam:20170125T133000
DTEND;TZID=Europe/Amsterdam:20170125T140000
DTSTAMP:20260424T154716
CREATED:20161213T132116Z
LAST-MODIFIED:20161213T132116Z
UID:1867-1485351000-1485352800@www.limattivo-inhetbrein.nl
SUMMARY:Voorstelling "De kleine walvis" Bieb VANnU
DESCRIPTION:Tijdens de nationale voorleesdagen 2017 speelt Limattivo in op het prentenboek van het jaar “De kleine walvis”. \nClown Li zit samen met de kinderen op het strand voor het huisje waar Boy met zijn vader woont. De vader van Boy vertrekt naar zee om vis te gaan vangen en Boy is thuis aan het wachten op de storm. Dan gaat het waaien voel je dat ook het gaat steeds harder waaien\, als de wind gaat liggen gaat Clown Li samen met de kinderen strandjutten op het strand van Boy we vinden van alles………….. Maar ook…………..Een kleine walvis een bijzondere kleine walvis\, ga samen met Clown Li mee op avontuur op het strand van Boy en zijn vader op het einde van de voorstelling brengen we de kleine walvis terug naar zee en duiken we er zelf even in\, wat een mooie beleving. \nVoorstelling geschreven voor peuters en kleuters
URL:https://www.limattivo-inhetbrein.nl/evenement/voorstelling-kleine-walvis-bieb-vannu/
LOCATION:Zie Bieb VANnU
END:VEVENT
BEGIN:VEVENT
DTSTART;TZID=Europe/Amsterdam:20170125T080000
DTEND;TZID=Europe/Amsterdam:20170204T170000
DTSTAMP:20260424T154716
CREATED:20161016T233704Z
LAST-MODIFIED:20161016T233704Z
UID:1785-1485331200-1486227600@www.limattivo-inhetbrein.nl
SUMMARY:Nationale voorleesdagen 2017 De kleine walvis
DESCRIPTION:Tijdens de nationale voorleesdagen 2017 speelt Limattivo in op het prentenboek van het jaar “De kleine walvis”. \nClown Li zit samen met de kinderen op het strand voor het huisje waar Boy met zijn vader woont. De vader van Boy vertrekt naar zee om vis te gaan vangen en Boy is thuis aan het wachten op de storm. \nDan gaat het waaien voel je dat ook het gaat steeds harder waaien\, als de wind gaat liggen gaat Clown Li samen met de kinderen strandjutten op het strand van Boy we vinden van alles………….. Maar ook………….. \nEen kleine walvis een bijzondere kleine walvis\, ga samen met Clown Li mee op avontuur op het strand van Boy en zijn vader op het einde van de voorstelling brengen we de kleine walvis terug naar zee en duiken we er zelf even in\, wat een mooie beleving. \nVoorstelling geschreven voor peuters en kleuters is nu te boeken via info@limattivo.nl \n 
URL:https://www.limattivo-inhetbrein.nl/evenement/nationale-voorleesdagen-2017-kleine-walvis/
LOCATION:Noord brabant
END:VEVENT
BEGIN:VEVENT
DTSTART;TZID=Europe/Amsterdam:20170124T093000
DTEND;TZID=Europe/Amsterdam:20170124T100000
DTSTAMP:20260424T154716
CREATED:20161213T131609Z
LAST-MODIFIED:20161213T131609Z
UID:1861-1485250200-1485252000@www.limattivo-inhetbrein.nl
SUMMARY:Voorstelling "De kleine walvis"
DESCRIPTION:Tijdens de nationale voorleesdagen 2017 speelt Limattivo in op het prentenboek van het jaar “De kleine walvis”. \nClown Li zit samen met de kinderen op het strand voor het huisje waar Boy met zijn vader woont. De vader van Boy vertrekt naar zee om vis te gaan vangen en Boy is thuis aan het wachten op de storm. Dan gaat het waaien voel je dat ook het gaat steeds harder waaien\, als de wind gaat liggen gaat Clown Li samen met de kinderen strandjutten op het strand van Boy we vinden van alles………….. Maar ook…………..Een kleine walvis een bijzondere kleine walvis\, ga samen met Clown Li mee op avontuur op het strand van Boy en zijn vader op het einde van de voorstelling brengen we de kleine walvis terug naar zee en duiken we er zelf even in\, wat een mooie beleving. \nVoorstelling geschreven voor peuters en kleuters \n  \n 
URL:https://www.limattivo-inhetbrein.nl/evenement/voorstelling-kleine-walvis/
LOCATION:BS De Hasselbraam\, Beukenlaan 45\, Etten-Leur\, Noord-Brabant\, 4871\, Nederland
END:VEVENT
BEGIN:VEVENT
DTSTART;TZID=Europe/Amsterdam:20161213T110000
DTEND;TZID=Europe/Amsterdam:20161213T113000
DTSTAMP:20260424T154716
CREATED:20160815T135215Z
LAST-MODIFIED:20160815T135215Z
UID:1650-1481626800-1481628600@www.limattivo-inhetbrein.nl
SUMMARY:Prentenboekvoorstelling Krrrrrrrrrrrrr..........okodil
DESCRIPTION:Krokodil houd van plagen\, maar de dieren aan de oever vinden da niet zo fijn: “KKKrrrrr….okodil niet plagen”!!!! Je moet samen spelen! Een voorstelling voor Peuters en kleuters
URL:https://www.limattivo-inhetbrein.nl/evenement/prentenboekvoorstelling-krrrrrrrrrrrrr-okodil/
LOCATION:IKC de Vincent\, Lambertusstraat 5\, Etten-Leur\, Noord-Brabant\, 4872 XA \, Nederland
END:VEVENT
BEGIN:VEVENT
DTSTART;TZID=Europe/Amsterdam:20161208T200000
DTEND;TZID=Europe/Amsterdam:20161208T220000
DTSTAMP:20260424T154716
CREATED:20161106T144110Z
LAST-MODIFIED:20161106T144110Z
UID:1803-1481227200-1481234400@www.limattivo-inhetbrein.nl
SUMMARY:Lezing Beeld denken en Hoog gevoeligheid
DESCRIPTION:
URL:https://www.limattivo-inhetbrein.nl/evenement/lezing-beeld-denken-en-hoog-gevoeligheid-2/
LOCATION:Noord brabant
END:VEVENT
BEGIN:VEVENT
DTSTART;TZID=Europe/Amsterdam:20161124T200000
DTEND;TZID=Europe/Amsterdam:20161124T213000
DTSTAMP:20260424T154716
CREATED:20161007T142609Z
LAST-MODIFIED:20161007T142609Z
UID:1736-1480017600-1480023000@www.limattivo-inhetbrein.nl
SUMMARY:Lezing beeld denken en hoog gevoeligheid
DESCRIPTION:Zie je bij alles wat er gezegd wordt een plaatje of een film voor je? Is een uitleg van een leerkracht niet duidelijk voor je maar als je het plaatje pas ziet hem of haar pas begrijpt? Heeft je kind een vol hoofd\, moeite met lezen en schrijven en heeft deze totaal geen tijdsbesef maar een enorme rijke fantasie? Zo zijn er een tal van reden waarom jij of jouw kind niet verder komen met lesstof omdat het een chaos is.  Kom dan eens luisteren naar de lezing over beeld denken en hoog gevoeligheid bij Limattivo in Etten-Leur. Geef je op via info@limattivo.nl kosten voor deze avond zijn €2.50 per persoon er is plaatst voor 10 personen.
URL:https://www.limattivo-inhetbrein.nl/evenement/lezing-beeld-denken-en-hoog-gevoeligheid/
LOCATION:Noord brabant
END:VEVENT
BEGIN:VEVENT
DTSTART;TZID=Europe/Amsterdam:20161115T110000
DTEND;TZID=Europe/Amsterdam:20161115T113000
DTSTAMP:20260424T154716
CREATED:20160815T134844Z
LAST-MODIFIED:20160815T134844Z
UID:1648-1479207600-1479209400@www.limattivo-inhetbrein.nl
SUMMARY:Prentenboekvoorstelling nog 100 nachtjes slapen
DESCRIPTION:Wie wil er nu niet jarig zijn? Nou Dorus anders wel maar hij moet wel 100 nachtjes wachten zo lang wachten kan Dorus niet wat kan hij hier aan doen?….. Clown Li en Dorus stappen samen in de wereld van Dorus die wel op een hele bijzondere manier het hele dorp uitnodigt op zijn verjaardagspartijtje.
URL:https://www.limattivo-inhetbrein.nl/evenement/prentenboekvoorstelling-nog-100-nachtjes-slapen/
LOCATION:KDV Do-Re-Mi\, Tamboerijn 9\, Etten-Leur\, Noord-Brabant\, 4876 BS\, Nederland
END:VEVENT
BEGIN:VEVENT
DTSTART;TZID=Europe/Amsterdam:20161112T080000
DTEND;TZID=Europe/Amsterdam:20161205T170000
DTSTAMP:20260424T154716
CREATED:20160812T103615Z
LAST-MODIFIED:20160812T103615Z
UID:1638-1478937600-1480957200@www.limattivo-inhetbrein.nl
SUMMARY:Belevingstheater Het inpakpietje (Sinterklaas activiteit)
DESCRIPTION:In November komt hij weer aan in Nederland\, Sinterklaas voor sommige kinderen en verstandelijk gehandicapten “de” held van het jaar! Limattivo heeft een leuk gezellig belevingstheater ontwikkeld rondom het thema Sinterklaas “Het inpakpietje” Reserveer nu het theater binnen uw school\, kinderopvang\, dagcentrum woongroep enz. Theater is geschikt voor Peuters\, Kleuters en kinderen en volwassenen met een (zeer) ernstige (meervoudige) handicap.
URL:https://www.limattivo-inhetbrein.nl/evenement/belevingstheater-inpakpietje-sinterklaas-activiteit/
LOCATION:Noord brabant
END:VEVENT
BEGIN:VEVENT
DTSTART;TZID=Europe/Amsterdam:20161017T093000
DTEND;TZID=Europe/Amsterdam:20161017T100000
DTSTAMP:20260424T154716
CREATED:20160815T134314Z
LAST-MODIFIED:20160815T134314Z
UID:1646-1476696600-1476698400@www.limattivo-inhetbrein.nl
SUMMARY:Prentenboekvoorstelling Wiebelbillenboogie
DESCRIPTION:Als mama moet werken past papa olifant op de kinderen\, samen met clown Li en papa olifant spelen de kinderen spelletjes en gaan we op bananen jacht als echte indianen\, maar dan komt mama thuis o jee ze is niet blij zullen we mama blij maken?………… een voorstelling voor peuters en kleuters
URL:https://www.limattivo-inhetbrein.nl/evenement/prentenboekvoorstelling-wiebelbillenboogie/
LOCATION:d’n Overkant\, Edward Poppelaan 18\, Etten-Leur\, Noord brabant\, 4874 NA \, Nederland
END:VEVENT
BEGIN:VEVENT
DTSTART;TZID=Europe/Amsterdam:20161012T143000
DTEND;TZID=Europe/Amsterdam:20161012T150000
DTSTAMP:20260424T154716
CREATED:20160817T091151Z
LAST-MODIFIED:20160817T091151Z
UID:1660-1476282600-1476284400@www.limattivo-inhetbrein.nl
SUMMARY:Kinderboekenweek 2016 voorstelling op bezoek bij opa en oma
DESCRIPTION:Tijdens de Kinderboekenweek 2016 speelt Limattivo in op het thema opa’s en oma’s.In een oude huiskamer gaan opa en oma eens lekker zitten in een fijne stoel\, En wat is het fijn om voorgelezen te worden door opa en oma als je daar op bezoek bent. Opa en oma hebben een mooi sprookjesboek waar ze mooie verhalen uithalen om aan de kinderen te vertellen In hun huiskamer oude spullen komt het verhaal van roodkapje tot leven\, En na het verhaaltje wordt altijd lekker verwend door opa en oma met iets lekkers voor de Kinderen weer naar huis gaan.
URL:https://www.limattivo-inhetbrein.nl/evenement/kinderboekenweek-2016-voorstelling-op-bezoek-opa-en-oma-3/
LOCATION:Bibliotheek VANnU Oudenbosch\, Sint Annaplein 3\, Oudenbosch\, Noord-Brabant\, 4731HN\, Nederland
END:VEVENT
BEGIN:VEVENT
DTSTART;TZID=Europe/Amsterdam:20161010T093000
DTEND;TZID=Europe/Amsterdam:20161010T100000
DTSTAMP:20260424T154716
CREATED:20160814T192644Z
LAST-MODIFIED:20160814T192644Z
UID:1644-1476091800-1476093600@www.limattivo-inhetbrein.nl
SUMMARY:Kinderboekenweek 2016 voorstelling op bezoek bij opa en oma
DESCRIPTION:Tijdens de Kinderboekenweek 2016 speelt Limattivo in op het thema opa’s en oma’s.In een oude huiskamer gaan opa en oma eens lekker zitten in een fijne stoel\, En wat is het fijn om voorgelezen te worden door opa en oma als je daar op bezoek bent. Opa en oma hebben een mooi sprookjesboek waar ze mooie verhalen uithalen om aan de kinderen te vertellen In hun huiskamer oude spullen komt het verhaal van roodkapje tot leven\, En na het verhaaltje wordt altijd lekker verwend door opa en oma met iets lekkers voor de Kinderen weer naar huis gaan.
URL:https://www.limattivo-inhetbrein.nl/evenement/kinderboekenweek-2016-op-bezoek-opa-en-oma/
LOCATION:Het Voortouw\, Slagveld 55\, Etten-Leur\, Noord Brabant\, 4871 ND \, Nederland
END:VEVENT
BEGIN:VEVENT
DTSTART;TZID=Europe/Amsterdam:20161006T093000
DTEND;TZID=Europe/Amsterdam:20161006T100000
DTSTAMP:20260424T154716
CREATED:20160814T192356Z
LAST-MODIFIED:20160814T192356Z
UID:1642-1475746200-1475748000@www.limattivo-inhetbrein.nl
SUMMARY:Kinderboekenweek 2016 voorstelling op bezoek bij opa en oma
DESCRIPTION:Tijdens de Kinderboekenweek 2016 speelt Limattivo in op het thema opa’s en oma’s.In een oude huiskamer gaan opa en oma eens lekker zitten in een fijne stoel\, En wat is het fijn om voorgelezen te worden door opa en oma als je daar op bezoek bent. Opa en oma hebben een mooi sprookjesboek waar ze mooie verhalen uithalen om aan de kinderen te vertellen In hun huiskamer oude spullen komt het verhaal van roodkapje tot leven\, En na het verhaaltje wordt altijd lekker verwend door opa en oma met iets lekkers voor de Kinderen weer naar huis gaan. \n 
URL:https://www.limattivo-inhetbrein.nl/evenement/kinderboekenweek-2016-voorstelling-op-bezoek-opa-en-oma/
LOCATION:De Klankhof\, Hobodreef 1\, Etten-Leur\, Noord brabant\, 4876 XB \, Nederland
END:VEVENT
BEGIN:VEVENT
DTSTART;TZID=Europe/Amsterdam:20161005T150000
DTEND;TZID=Europe/Amsterdam:20161005T153000
DTSTAMP:20260424T154716
CREATED:20160817T090916Z
LAST-MODIFIED:20160817T090916Z
UID:1657-1475679600-1475681400@www.limattivo-inhetbrein.nl
SUMMARY:Kinderboekenweek 2016 voorstelling op bezoek bij opa en oma
DESCRIPTION:Tijdens de Kinderboekenweek 2016 speelt Limattivo in op het thema opa’s en oma’s.In een oude huiskamer gaan opa en oma eens lekker zitten in een fijne stoel\, En wat is het fijn om voorgelezen te worden door opa en oma als je daar op bezoek bent. Opa en oma hebben een mooi sprookjesboek waar ze mooie verhalen uithalen om aan de kinderen te vertellen In hun huiskamer oude spullen komt het verhaal van roodkapje tot leven\, En na het verhaaltje wordt altijd lekker verwend door opa en oma met iets lekkers voor de Kinderen weer naar huis gaan.
URL:https://www.limattivo-inhetbrein.nl/evenement/kinderboekenweek-2016-voorstelling-op-bezoek-opa-en-oma-2/
LOCATION:Bibliotheek VANnU Ruchpen\, Binnentuin 3\, Ruchpen\, Noord-Brabant\, 4715RW\, Nederland
END:VEVENT
BEGIN:VEVENT
DTSTART;TZID=Europe/Amsterdam:20161005T080000
DTEND;TZID=Europe/Amsterdam:20161015T170000
DTSTAMP:20260424T154716
CREATED:20160811T194542Z
LAST-MODIFIED:20160811T194542Z
UID:1632-1475654400-1476550800@www.limattivo-inhetbrein.nl
SUMMARY:Kinderboekenweek
DESCRIPTION:Komend najaar is het weer Kinderboekenweek het thema dit jaar is opa’s en oma’s. Limattivo heeft er weer een leuk verhaal bij gemaakt. Neem contact met mij op als u nog een voorstelling wilt boeken.
URL:https://www.limattivo-inhetbrein.nl/evenement/kinderboekenweek/
LOCATION:Noord brabant
END:VEVENT
END:VCALENDAR